BEGIN:VCALENDAR
VERSION:2.0
CALSCALE:GREGORIAN
BEGIN:VEVENT
DTSTART;TZID=Europe/Berlin:20231208T160000
DTEND;TZID=Europe/Berlin:20231209T000000
SUMMARY:Görlitzer Kinderakademie\: Abenteuer Wissenschaft – Messen und Forschen im Grönlandeis
DESCRIPTION:
END:VEVENT
END:VCALENDAR