BEGIN:VCALENDAR
VERSION:2.0
CALSCALE:GREGORIAN
BEGIN:VEVENT
DTSTART;TZID=Europe/Berlin:20230622T140000
DTEND;TZID=Europe/Berlin:20230623T000000
SUMMARY:Gewerbliche Schutzrechte - Markenrecht
DESCRIPTION:In dieser Veranstaltung erhalten Sie wertvolle Informationen über Markenschutz und Markenformen.
END:VEVENT
END:VCALENDAR