BEGIN:VCALENDAR
VERSION:2.0
CALSCALE:GREGORIAN
BEGIN:VEVENT
DTSTART;TZID=Europe/Berlin:20250123T143000
DTEND;TZID=Europe/Berlin:20250124T000000
SUMMARY:Gewerbliche Schutzrechte - Markenrecht
DESCRIPTION:In dieser Veranstaltung erhalten Sie wertvolle Informationen über Markenschutz und Markenformen.
END:VEVENT
END:VCALENDAR