BEGIN:VCALENDAR
VERSION:2.0
CALSCALE:GREGORIAN
BEGIN:VEVENT
DTSTART;TZID=Europe/Berlin:20240411T143000
DTEND;TZID=Europe/Berlin:20240412T000000
SUMMARY:Geschäftsmodellinnovationen (online)
DESCRIPTION:Revolutionieren Sie Ihr Geschäftsmodell\: Innovation\, die über das Bekannte hinausgeht
END:VEVENT
END:VCALENDAR