BEGIN:VCALENDAR
VERSION:2.0
CALSCALE:GREGORIAN
BEGIN:VEVENT
DTSTART;TZID=Europe/Berlin:20240905T100000
DTEND;TZID=Europe/Berlin:20240906T000000
SUMMARY:Für die Jugend gekreuzt?
DESCRIPTION:Wahlanalyse Teil I\:Folgen der Landtagswahlen für eine Politik für junge Menschen und die Kinder- und Jugendhilfe.
END:VEVENT
END:VCALENDAR