BEGIN:VCALENDAR
VERSION:2.0
CALSCALE:GREGORIAN
BEGIN:VEVENT
DTSTART;TZID=Europe/Berlin:20240807T140000
DTEND;TZID=Europe/Berlin:20240808T000000
SUMMARY:Friede. Freude. Fahrradtour 
DESCRIPTION:&quot;F wie Kraft&quot; lädt zum gemeinsamen Radeln ein. 
END:VEVENT
END:VCALENDAR