BEGIN:VCALENDAR
VERSION:2.0
CALSCALE:GREGORIAN
BEGIN:VEVENT
DTSTART;TZID=Europe/Berlin:20230826T120000
DTEND;TZID=Europe/Berlin:20230827T000000
SUMMARY:Fachkräftebörse
DESCRIPTION:Wir zeigen unsere Jobs mit Aussicht zum Altstadtfest Görlitz
END:VEVENT
END:VCALENDAR