BEGIN:VCALENDAR
VERSION:2.0
CALSCALE:GREGORIAN
BEGIN:VEVENT
DTSTART;TZID=Europe/Berlin:20240319T130000
DTEND;TZID=Europe/Berlin:20240320T000000
SUMMARY:F wie Future - F wie Kraft neu gedacht 
DESCRIPTION:F wie Kraft - Redaktionstreffen
END:VEVENT
END:VCALENDAR