BEGIN:VCALENDAR
VERSION:2.0
CALSCALE:GREGORIAN
BEGIN:VEVENT
DTSTART;TZID=Europe/Berlin:20221221T161500
DTEND;TZID=Europe/Berlin:20221222T000000
SUMMARY:Eigen- und Fremddarstellungen der Herrnhuter Mission in Missionspublikationen zu Beginn des 20. Jahrhunderts
DESCRIPTION:
END:VEVENT
END:VCALENDAR