BEGIN:VCALENDAR
VERSION:2.0
CALSCALE:GREGORIAN
BEGIN:VEVENT
DTSTART;TZID=Europe/Berlin:20241028T080000
DTEND;TZID=Europe/Berlin:20250116T000000
SUMMARY:“Die Kunst der technischen Zeichnung”
DESCRIPTION:Die Ausstellung ist bis Ende Mitte Januar auf dem Zittauer Campus im Haus II zu sehen.
END:VEVENT
END:VCALENDAR