BEGIN:VCALENDAR
VERSION:2.0
CALSCALE:GREGORIAN
BEGIN:VEVENT
DTSTART;TZID=Europe/Berlin:20221107T090000
DTEND;TZID=Europe/Berlin:20221108T000000
SUMMARY:Das 31. Energieseminar in Görlitz unter dem Leitthema\: Grüne Fernwärme
DESCRIPTION:
END:VEVENT
END:VCALENDAR