BEGIN:VCALENDAR
VERSION:2.0
CALSCALE:GREGORIAN
BEGIN:VEVENT
DTSTART;TZID=Europe/Berlin:20240116T180000
DTEND;TZID=Europe/Berlin:20240117T000000
SUMMARY:2. Chemie-Schülerakademie zum Thema\: Die Chemie von Naturfaserverstärkten Kunststoffen
DESCRIPTION:
END:VEVENT
END:VCALENDAR