BEGIN:VCALENDAR
VERSION:2.0
CALSCALE:GREGORIAN
BEGIN:VEVENT
DTSTART;TZID=Europe/Berlin:20240311T180000
DTEND;TZID=Europe/Berlin:20240312T000000
SUMMARY:3. Chemie-Schülerakademie zum Thema\: Atomkerne kreiseln lassen – Strukturaufklärung organischer Verbindungen mit der NMR-Spektroskopie
DESCRIPTION:
END:VEVENT
END:VCALENDAR