BEGIN:VCALENDAR
VERSION:2.0
CALSCALE:GREGORIAN
BEGIN:VEVENT
DTSTART;TZID=Europe/Berlin:20240506T180000
DTEND;TZID=Europe/Berlin:20240507T000000
SUMMARY:5. Chemie-Schülerakademie zum Thema\: Chromatographie – ein Verfahren zum Auftrennen von Stoffgemischen und Identifizieren von Stoffen
DESCRIPTION:
END:VEVENT
END:VCALENDAR