BEGIN:VCALENDAR
VERSION:2.0
CALSCALE:GREGORIAN
BEGIN:VEVENT
DTSTART;TZID=Europe/Berlin:20221109T180000
DTEND;TZID=Europe/Berlin:20221110T000000
SUMMARY:Bürger trifft Wissenschaft - Umgebindehäuser und Digitalisierung
DESCRIPTION:
END:VEVENT
END:VCALENDAR