BEGIN:VCALENDAR
VERSION:2.0
CALSCALE:GREGORIAN
BEGIN:VEVENT
DTSTART;TZID=Europe/Berlin:20231012T090000
DTEND;TZID=Europe/Berlin:20231013T000000
SUMMARY:Bildung für nachhaltige Entwicklung – Innovative Methoden für eine zukunftsfähige Lehre
DESCRIPTION:Klimawandel\, wachsende globale Ungleichheiten\, Ressourcenverknappung – die Zukunft ist voller Herausforderungen\, für deren Bewältigung eine nachhaltige Entwicklung entscheidend ist. Um Prozesse wie die Beendigung von Armut und Hunger in der Welt\, die in den 17 globalen Nachhaltigkeitszielen (Sustainable Development Goals\, SDGs) der UN ausformuliert sind\, anstoßen und mit gestalten zu können\, benötigen Studierende als zukünftige Entscheidungsträger\:innen spezifische Kompetenzen. Damit stellt sich für Universitäten und Lehrende die Frage danach\, welchen Beitrag Bildung zu einer nachhaltigen Entwicklung leisten kann\, welche Kompetenzen Studierende für die Zukunft erwerben müssen und wie Lehren und Lernen im Sinne einer sich verändernden Lernkultur gestaltet werden kann.
END:VEVENT
END:VCALENDAR