BEGIN:VCALENDAR
VERSION:2.0
CALSCALE:GREGORIAN
BEGIN:VEVENT
DTSTART;TZID=Europe/Berlin:20240909T090000
DTEND;TZID=Europe/Berlin:20250322T000000
SUMMARY:Basiskurs Hochschuldidaktik
DESCRIPTION:Erwerben Sie ein solides Fundament für Ihre hochschuldidaktische Weiterentwicklung! 
END:VEVENT
END:VCALENDAR