BEGIN:VCALENDAR
VERSION:2.0
CALSCALE:GREGORIAN
BEGIN:VEVENT
DTSTART;TZID=Europe/Berlin:20221012T161500
DTEND;TZID=Europe/Berlin:20221013T000000
SUMMARY:Aktuelle Entwicklungen in der Luftfahrt\: Wie sollen die Klimaziele erreicht werden?
DESCRIPTION:
END:VEVENT
END:VCALENDAR